BEGIN:VCALENDAR
VERSION:2.0
PRODID:-//Fawkner Wholefoods Collective - ECPv5.16.3.1//NONSGML v1.0//EN
CALSCALE:GREGORIAN
METHOD:PUBLISH
X-ORIGINAL-URL:https://www.fawknerwholefoodscollective.com.au
X-WR-CALDESC:Events for Fawkner Wholefoods Collective
REFRESH-INTERVAL;VALUE=DURATION:PT1H
X-Robots-Tag:noindex
X-PUBLISHED-TTL:PT1H
BEGIN:VTIMEZONE
TZID:UTC
BEGIN:STANDARD
TZOFFSETFROM:+0000
TZOFFSETTO:+0000
TZNAME:UTC
DTSTART:20220101T000000
END:STANDARD
END:VTIMEZONE
BEGIN:VEVENT
DTSTART;TZID=UTC:20220314T120000
DTEND;TZID=UTC:20220314T140000
DTSTAMP:20260425T055832
CREATED:20220207T021941Z
LAST-MODIFIED:20220207T021941Z
UID:6190-1647259200-1647266400@www.fawknerwholefoodscollective.com.au
SUMMARY:March 14th - Pantry Orders Close
DESCRIPTION:Monthly pantry (and eggs and bread) orders close today! Make sure you order via the shopfront here.
URL:https://www.fawknerwholefoodscollective.com.au/event/march-14th-pantry-orders-close/
LOCATION:Open Food Network (online)
CATEGORIES:Monthly Pantry Orders
ATTACH;FMTTYPE=image/png:https://www.fawknerwholefoodscollective.com.au/wp-content/uploads/2021/11/EVENTICONS_B-05.png
END:VEVENT
BEGIN:VEVENT
DTSTART;TZID=UTC:20220320T100000
DTEND;TZID=UTC:20220320T130000
DTSTAMP:20260425T055832
CREATED:20220207T021050Z
LAST-MODIFIED:20220207T021050Z
UID:6177-1647770400-1647781200@www.fawknerwholefoodscollective.com.au
SUMMARY:20th March - Pantry Order Pick-up
DESCRIPTION:Come along to the Fawkner Bowls Club to pick up your monthly pantry item (and eggs and bakery items) order.
URL:https://www.fawknerwholefoodscollective.com.au/event/20th-march-pantry-order-pick-up/
LOCATION:Fawkner Bowls Club\, 2 Creedon st\, Fawkner\, Victoria\, 3060\, Australia
CATEGORIES:Monthly Pantry Orders
ATTACH;FMTTYPE=image/png:https://www.fawknerwholefoodscollective.com.au/wp-content/uploads/2021/11/EVENTICONS_B-04.png
END:VEVENT
END:VCALENDAR