BEGIN:VCALENDAR
VERSION:2.0
PRODID:-//Fawkner Wholefoods Collective - ECPv5.16.3.1//NONSGML v1.0//EN
CALSCALE:GREGORIAN
METHOD:PUBLISH
X-WR-CALNAME:Fawkner Wholefoods Collective
X-ORIGINAL-URL:https://www.fawknerwholefoodscollective.com.au
X-WR-CALDESC:Events for Fawkner Wholefoods Collective
REFRESH-INTERVAL;VALUE=DURATION:PT1H
X-Robots-Tag:noindex
X-PUBLISHED-TTL:PT1H
BEGIN:VTIMEZONE
TZID:Australia/Melbourne
BEGIN:STANDARD
TZOFFSETFROM:+1100
TZOFFSETTO:+1000
TZNAME:AEST
DTSTART:20220402T160000
END:STANDARD
BEGIN:DAYLIGHT
TZOFFSETFROM:+1000
TZOFFSETTO:+1100
TZNAME:AEDT
DTSTART:20221001T160000
END:DAYLIGHT
TZID:UTC
BEGIN:STANDARD
TZOFFSETFROM:+0000
TZOFFSETTO:+0000
TZNAME:UTC
DTSTART:20220101T000000
END:STANDARD
END:VTIMEZONE
BEGIN:VEVENT
DTSTART;VALUE=DATE:20220919
DTEND;VALUE=DATE:20221013
DTSTAMP:20260424T180916
CREATED:20220708T022313Z
LAST-MODIFIED:20220708T022313Z
UID:6894-1663545600-1665619199@www.fawknerwholefoodscollective.com.au
SUMMARY:19th September - Orders Open
DESCRIPTION:Monthly pantry (and eggs and bread) orders are open! Make sure you order via the shopfront here.
URL:https://www.fawknerwholefoodscollective.com.au/event/19th-september-orders-open/
LOCATION:Open Food Network (online)
CATEGORIES:Monthly Pantry Orders
ATTACH;FMTTYPE=image/jpeg:https://www.fawknerwholefoodscollective.com.au/wp-content/uploads/2022/07/EVENTICONS_B-03.jpg
END:VEVENT
BEGIN:VEVENT
DTSTART;TZID=UTC:20221012T000000
DTEND;TZID=UTC:20221012T100000
DTSTAMP:20260424T180916
CREATED:20220708T022603Z
LAST-MODIFIED:20220708T023658Z
UID:6898-1665532800-1665568800@www.fawknerwholefoodscollective.com.au
SUMMARY:12th October - Orders Close
DESCRIPTION:Monthly pantry (and eggs and bread) orders close at 10 am today! Make sure you order via the shopfront here.
URL:https://www.fawknerwholefoodscollective.com.au/event/12th-october-pantry-orders-close-2/
LOCATION:Open Food Network (online)
CATEGORIES:Monthly Pantry Orders
ATTACH;FMTTYPE=image/png:https://www.fawknerwholefoodscollective.com.au/wp-content/uploads/2021/11/EVENTICONS_B-05.png
END:VEVENT
BEGIN:VEVENT
DTSTART;TZID=UTC:20221016T100000
DTEND;TZID=UTC:20221016T130000
DTSTAMP:20260424T180916
CREATED:20220708T023523Z
LAST-MODIFIED:20220708T023523Z
UID:6906-1665914400-1665925200@www.fawknerwholefoodscollective.com.au
SUMMARY:16th October - Order Pick-up
DESCRIPTION:Come along to the Fawkner Bowls Club to pick up your monthly pantry item (and eggs and bakery items) order.
URL:https://www.fawknerwholefoodscollective.com.au/event/16th-october-order-pick-up/
LOCATION:Fawkner Bowls Club\, 2 Creedon st\, Fawkner\, Victoria\, 3060\, Australia
CATEGORIES:Monthly Pantry Orders
ATTACH;FMTTYPE=image/png:https://www.fawknerwholefoodscollective.com.au/wp-content/uploads/2021/11/EVENTICONS_B-04.png
END:VEVENT
BEGIN:VEVENT
DTSTART;VALUE=DATE:20221017
DTEND;VALUE=DATE:20221116
DTSTAMP:20260424T180916
CREATED:20220708T023812Z
LAST-MODIFIED:20220708T023812Z
UID:6916-1665964800-1668556799@www.fawknerwholefoodscollective.com.au
SUMMARY:17th October - Orders Open
DESCRIPTION:Monthly pantry (and eggs and bread) orders are open! Make sure you order via the shopfront here.
URL:https://www.fawknerwholefoodscollective.com.au/event/17th-october-orders-open/
LOCATION:Open Food Network (online)
CATEGORIES:Monthly Pantry Orders
ATTACH;FMTTYPE=image/jpeg:https://www.fawknerwholefoodscollective.com.au/wp-content/uploads/2022/07/EVENTICONS_B-03.jpg
END:VEVENT
END:VCALENDAR