BEGIN:VCALENDAR
VERSION:2.0
PRODID:-//Fawkner Wholefoods Collective - ECPv5.16.3.1//NONSGML v1.0//EN
CALSCALE:GREGORIAN
METHOD:PUBLISH
X-ORIGINAL-URL:https://www.fawknerwholefoodscollective.com.au
X-WR-CALDESC:Events for Fawkner Wholefoods Collective
REFRESH-INTERVAL;VALUE=DURATION:PT1H
X-Robots-Tag:noindex
X-PUBLISHED-TTL:PT1H
BEGIN:VTIMEZONE
TZID:Australia/Melbourne
BEGIN:STANDARD
TZOFFSETFROM:+1100
TZOFFSETTO:+1000
TZNAME:AEST
DTSTART:20220402T160000
END:STANDARD
BEGIN:DAYLIGHT
TZOFFSETFROM:+1000
TZOFFSETTO:+1100
TZNAME:AEDT
DTSTART:20221001T160000
END:DAYLIGHT
TZID:UTC
BEGIN:STANDARD
TZOFFSETFROM:+0000
TZOFFSETTO:+0000
TZNAME:UTC
DTSTART:20220101T000000
END:STANDARD
END:VTIMEZONE
BEGIN:VEVENT
DTSTART;VALUE=DATE:20221017
DTEND;VALUE=DATE:20221116
DTSTAMP:20260424T163013
CREATED:20220708T023812Z
LAST-MODIFIED:20220708T023812Z
UID:6916-1665964800-1668556799@www.fawknerwholefoodscollective.com.au
SUMMARY:17th October - Orders Open
DESCRIPTION:Monthly pantry (and eggs and bread) orders are open! Make sure you order via the shopfront here.
URL:https://www.fawknerwholefoodscollective.com.au/event/17th-october-orders-open/
LOCATION:Open Food Network (online)
CATEGORIES:Monthly Pantry Orders
ATTACH;FMTTYPE=image/jpeg:https://www.fawknerwholefoodscollective.com.au/wp-content/uploads/2022/07/EVENTICONS_B-03.jpg
END:VEVENT
BEGIN:VEVENT
DTSTART;TZID=UTC:20221116T000000
DTEND;TZID=UTC:20221116T100000
DTSTAMP:20260424T163013
CREATED:20220708T023920Z
LAST-MODIFIED:20220708T023920Z
UID:6918-1668556800-1668592800@www.fawknerwholefoodscollective.com.au
SUMMARY:16th November - Orders Close
DESCRIPTION:Monthly pantry (and eggs and bread) orders close at 10 am today! Make sure you order via the shopfront here.
URL:https://www.fawknerwholefoodscollective.com.au/event/16th-november-orders-close/
LOCATION:Open Food Network (online)
CATEGORIES:Monthly Pantry Orders
ATTACH;FMTTYPE=image/png:https://www.fawknerwholefoodscollective.com.au/wp-content/uploads/2021/11/EVENTICONS_B-05.png
END:VEVENT
BEGIN:VEVENT
DTSTART;TZID=UTC:20221120T100000
DTEND;TZID=UTC:20221120T130000
DTSTAMP:20260424T163013
CREATED:20220708T024024Z
LAST-MODIFIED:20220708T024024Z
UID:6920-1668938400-1668949200@www.fawknerwholefoodscollective.com.au
SUMMARY:20th November - Order Pick-up
DESCRIPTION:Come along to the Fawkner Bowls Club to pick up your monthly pantry item (and eggs and bakery items) order.
URL:https://www.fawknerwholefoodscollective.com.au/event/20th-november-order-pick-up/
LOCATION:Fawkner Bowls Club\, 2 Creedon st\, Fawkner\, Victoria\, 3060\, Australia
CATEGORIES:Monthly Pantry Orders
ATTACH;FMTTYPE=image/png:https://www.fawknerwholefoodscollective.com.au/wp-content/uploads/2021/11/EVENTICONS_B-04.png
END:VEVENT
BEGIN:VEVENT
DTSTART;VALUE=DATE:20221121
DTEND;VALUE=DATE:20221214
DTSTAMP:20260424T163013
CREATED:20220708T024214Z
LAST-MODIFIED:20220708T024214Z
UID:6923-1668988800-1670975999@www.fawknerwholefoodscollective.com.au
SUMMARY:21st November - Orders Open
DESCRIPTION:Monthly pantry (and eggs and bread) orders are open! Make sure you order via the shopfront here.
URL:https://www.fawknerwholefoodscollective.com.au/event/21st-november-orders-open/
LOCATION:Open Food Network (online)
CATEGORIES:Monthly Pantry Orders
ATTACH;FMTTYPE=image/jpeg:https://www.fawknerwholefoodscollective.com.au/wp-content/uploads/2022/07/EVENTICONS_B-03.jpg
END:VEVENT
END:VCALENDAR