BEGIN:VCALENDAR
VERSION:2.0
PRODID:-//Fawkner Wholefoods Collective - ECPv5.16.3.1//NONSGML v1.0//EN
CALSCALE:GREGORIAN
METHOD:PUBLISH
X-ORIGINAL-URL:https://www.fawknerwholefoodscollective.com.au
X-WR-CALDESC:Events for Fawkner Wholefoods Collective
REFRESH-INTERVAL;VALUE=DURATION:PT1H
X-Robots-Tag:noindex
X-PUBLISHED-TTL:PT1H
BEGIN:VTIMEZONE
TZID:UTC
BEGIN:STANDARD
TZOFFSETFROM:+0000
TZOFFSETTO:+0000
TZNAME:UTC
DTSTART:20230101T000000
END:STANDARD
END:VTIMEZONE
BEGIN:VEVENT
DTSTART;TZID=UTC:20231217T090000
DTEND;TZID=UTC:20231217T120000
DTSTAMP:20260423T184831
CREATED:20230621T045426Z
LAST-MODIFIED:20230621T110334Z
UID:7189-1702803600-1702814400@www.fawknerwholefoodscollective.com.au
SUMMARY:17th Dec - Order Pick-up
DESCRIPTION:Bring your bags and containers along to the Fawkner Bowls Club to pick up your order. \nOnline orders close Weds 13 December.
URL:https://www.fawknerwholefoodscollective.com.au/event/13th-dec-order-pick-up-2/
LOCATION:Fawkner Bowls Club\, 2 Creedon st\, Fawkner\, Victoria\, 3060\, Australia
CATEGORIES:Monthly Pantry Orders
ATTACH;FMTTYPE=image/png:https://www.fawknerwholefoodscollective.com.au/wp-content/uploads/2021/11/EVENTICONS_B-04.png
END:VEVENT
END:VCALENDAR