BEGIN:VCALENDAR
VERSION:2.0
PRODID:-//Fawkner Wholefoods Collective - ECPv5.16.3.1//NONSGML v1.0//EN
CALSCALE:GREGORIAN
METHOD:PUBLISH
X-WR-CALNAME:Fawkner Wholefoods Collective
X-ORIGINAL-URL:https://www.fawknerwholefoodscollective.com.au
X-WR-CALDESC:Events for Fawkner Wholefoods Collective
REFRESH-INTERVAL;VALUE=DURATION:PT1H
X-Robots-Tag:noindex
X-PUBLISHED-TTL:PT1H
BEGIN:VTIMEZONE
TZID:UTC
BEGIN:STANDARD
TZOFFSETFROM:+0000
TZOFFSETTO:+0000
TZNAME:UTC
DTSTART:20220101T000000
END:STANDARD
END:VTIMEZONE
BEGIN:VEVENT
DTSTART;TZID=UTC:20220124T080000
DTEND;TZID=UTC:20220214T170000
DTSTAMP:20260425T105137
CREATED:20211114T124130Z
LAST-MODIFIED:20220130T025947Z
UID:5169-1643011200-1644858000@www.fawknerwholefoodscollective.com.au
SUMMARY:24th January - Pantry Orders Open
DESCRIPTION:Order from our list of fresh and dry goods via our shopfront on the Open Food Network here – monthly orders are picked up from the Fawkner Bowls Club on the 3rd Sunday of the month.
URL:https://www.fawknerwholefoodscollective.com.au/event/february-pantry-item-orders-open/
LOCATION:Open Food Network (online)
CATEGORIES:Monthly Pantry Orders
END:VEVENT
END:VCALENDAR