BEGIN:VCALENDAR
VERSION:2.0
PRODID:-//Fawkner Wholefoods Collective - ECPv5.16.3.1//NONSGML v1.0//EN
CALSCALE:GREGORIAN
METHOD:PUBLISH
X-WR-CALNAME:Fawkner Wholefoods Collective
X-ORIGINAL-URL:https://www.fawknerwholefoodscollective.com.au
X-WR-CALDESC:Events for Fawkner Wholefoods Collective
REFRESH-INTERVAL;VALUE=DURATION:PT1H
X-Robots-Tag:noindex
X-PUBLISHED-TTL:PT1H
BEGIN:VTIMEZONE
TZID:UTC
BEGIN:STANDARD
TZOFFSETFROM:+0000
TZOFFSETTO:+0000
TZNAME:UTC
DTSTART:20220101T000000
END:STANDARD
END:VTIMEZONE
BEGIN:VEVENT
DTSTART;TZID=UTC:20220404T120000
DTEND;TZID=UTC:20220404T140000
DTSTAMP:20260425T055720
CREATED:20220207T022026Z
LAST-MODIFIED:20220207T022026Z
UID:6192-1649073600-1649080800@www.fawknerwholefoodscollective.com.au
SUMMARY:April 4th - Pantry Orders Close
DESCRIPTION:Monthly pantry (and eggs and bread) orders close today! Make sure you order via the shopfront here.
URL:https://www.fawknerwholefoodscollective.com.au/event/april-4th-pantry-orders-close/
LOCATION:Open Food Network (online)
CATEGORIES:Monthly Pantry Orders
ATTACH;FMTTYPE=image/png:https://www.fawknerwholefoodscollective.com.au/wp-content/uploads/2021/11/EVENTICONS_B-05.png
END:VEVENT
END:VCALENDAR