BEGIN:VCALENDAR
VERSION:2.0
PRODID:-//Fawkner Wholefoods Collective - ECPv5.16.3.1//NONSGML v1.0//EN
CALSCALE:GREGORIAN
METHOD:PUBLISH
X-WR-CALNAME:Fawkner Wholefoods Collective
X-ORIGINAL-URL:https://www.fawknerwholefoodscollective.com.au
X-WR-CALDESC:Events for Fawkner Wholefoods Collective
REFRESH-INTERVAL;VALUE=DURATION:PT1H
X-Robots-Tag:noindex
X-PUBLISHED-TTL:PT1H
BEGIN:VTIMEZONE
TZID:UTC
BEGIN:STANDARD
TZOFFSETFROM:+0000
TZOFFSETTO:+0000
TZNAME:UTC
DTSTART:20220101T000000
END:STANDARD
END:VTIMEZONE
BEGIN:VEVENT
DTSTART;TZID=UTC:20220410T100000
DTEND;TZID=UTC:20220410T130000
DTSTAMP:20260425T055832
CREATED:20220207T021153Z
LAST-MODIFIED:20220207T021153Z
UID:6180-1649584800-1649595600@www.fawknerwholefoodscollective.com.au
SUMMARY:10th April - Pantry Order Pick-up
DESCRIPTION:Come along to the Fawkner Bowls Club to pick up your monthly pantry item (and eggs and bakery items) order.
URL:https://www.fawknerwholefoodscollective.com.au/event/10th-april-pantry-order-pick-up/
LOCATION:Fawkner Bowls Club\, 2 Creedon st\, Fawkner\, Victoria\, 3060\, Australia
CATEGORIES:Monthly Pantry Orders
ATTACH;FMTTYPE=image/png:https://www.fawknerwholefoodscollective.com.au/wp-content/uploads/2021/11/EVENTICONS_B-04.png
END:VEVENT
END:VCALENDAR