BEGIN:VCALENDAR
VERSION:2.0
PRODID:-//Fawkner Wholefoods Collective - ECPv5.16.3.1//NONSGML v1.0//EN
CALSCALE:GREGORIAN
METHOD:PUBLISH
X-ORIGINAL-URL:https://www.fawknerwholefoodscollective.com.au
X-WR-CALDESC:Events for Fawkner Wholefoods Collective
REFRESH-INTERVAL;VALUE=DURATION:PT1H
X-Robots-Tag:noindex
X-PUBLISHED-TTL:PT1H
BEGIN:VTIMEZONE
TZID:UTC
BEGIN:STANDARD
TZOFFSETFROM:+0000
TZOFFSETTO:+0000
TZNAME:UTC
DTSTART:20220101T000000
END:STANDARD
END:VTIMEZONE
BEGIN:VEVENT
DTSTART;TZID=UTC:20220914T000000
DTEND;TZID=UTC:20220914T100000
DTSTAMP:20260424T220332
CREATED:20220708T022015Z
LAST-MODIFIED:20220708T023643Z
UID:6890-1663113600-1663149600@www.fawknerwholefoodscollective.com.au
SUMMARY:14th September - Orders Close
DESCRIPTION:Monthly pantry (and eggs and bread) orders close at 10 am today! Make sure you order via the shopfront here.
URL:https://www.fawknerwholefoodscollective.com.au/event/14th-september-pantry-orders-close-2/
LOCATION:Open Food Network (online)
CATEGORIES:Monthly Pantry Orders
ATTACH;FMTTYPE=image/png:https://www.fawknerwholefoodscollective.com.au/wp-content/uploads/2021/11/EVENTICONS_B-05.png
END:VEVENT
BEGIN:VEVENT
DTSTART;TZID=UTC:20220914T000000
DTEND;TZID=UTC:20220914T100000
DTSTAMP:20260424T220332
CREATED:20220708T022404Z
LAST-MODIFIED:20220708T022733Z
UID:6896-1663113600-1663149600@www.fawknerwholefoodscollective.com.au
SUMMARY:14th September - Orders Close
DESCRIPTION:Monthly pantry (and eggs and bread) orders close at 10 am today! Make sure you order via the shopfront here.
URL:https://www.fawknerwholefoodscollective.com.au/event/12th-october-pantry-orders-close/
LOCATION:Open Food Network (online)
CATEGORIES:Monthly Pantry Orders
ATTACH;FMTTYPE=image/png:https://www.fawknerwholefoodscollective.com.au/wp-content/uploads/2021/11/EVENTICONS_B-05.png
END:VEVENT
END:VCALENDAR