BEGIN:VCALENDAR
VERSION:2.0
PRODID:-//Fawkner Wholefoods Collective - ECPv5.16.3.1//NONSGML v1.0//EN
CALSCALE:GREGORIAN
METHOD:PUBLISH
X-ORIGINAL-URL:https://www.fawknerwholefoodscollective.com.au
X-WR-CALDESC:Events for Fawkner Wholefoods Collective
REFRESH-INTERVAL;VALUE=DURATION:PT1H
X-Robots-Tag:noindex
X-PUBLISHED-TTL:PT1H
BEGIN:VTIMEZONE
TZID:UTC
BEGIN:STANDARD
TZOFFSETFROM:+0000
TZOFFSETTO:+0000
TZNAME:UTC
DTSTART:20220101T000000
END:STANDARD
TZID:Australia/Melbourne
BEGIN:STANDARD
TZOFFSETFROM:+1100
TZOFFSETTO:+1000
TZNAME:AEST
DTSTART:20220402T160000
END:STANDARD
BEGIN:DAYLIGHT
TZOFFSETFROM:+1000
TZOFFSETTO:+1100
TZNAME:AEDT
DTSTART:20221001T160000
END:DAYLIGHT
END:VTIMEZONE
BEGIN:VEVENT
DTSTART;TZID=UTC:20231217T090000
DTEND;TZID=UTC:20231217T120000
DTSTAMP:20260425T040821
CREATED:20230621T045426Z
LAST-MODIFIED:20230621T110334Z
UID:7189-1702803600-1702814400@www.fawknerwholefoodscollective.com.au
SUMMARY:17th Dec - Order Pick-up
DESCRIPTION:Bring your bags and containers along to the Fawkner Bowls Club to pick up your order. \nOnline orders close Weds 13 December.
URL:https://www.fawknerwholefoodscollective.com.au/event/13th-dec-order-pick-up-2/
LOCATION:Fawkner Bowls Club\, 2 Creedon st\, Fawkner\, Victoria\, 3060\, Australia
CATEGORIES:Monthly Pantry Orders
ATTACH;FMTTYPE=image/png:https://www.fawknerwholefoodscollective.com.au/wp-content/uploads/2021/11/EVENTICONS_B-04.png
END:VEVENT
BEGIN:VEVENT
DTSTART;TZID=UTC:20231119T090000
DTEND;TZID=UTC:20231119T120000
DTSTAMP:20260425T040821
CREATED:20230621T044754Z
LAST-MODIFIED:20230621T045320Z
UID:7187-1700384400-1700395200@www.fawknerwholefoodscollective.com.au
SUMMARY:19th Nov - Order Pick-up
DESCRIPTION:Bring your bags and containers along to the Fawkner Bowls Club to pick up your order. \nOnline orders close Weds 15 November.
URL:https://www.fawknerwholefoodscollective.com.au/event/19th-nov-order-pick-up/
LOCATION:Fawkner Bowls Club\, 2 Creedon st\, Fawkner\, Victoria\, 3060\, Australia
CATEGORIES:Monthly Pantry Orders
ATTACH;FMTTYPE=image/png:https://www.fawknerwholefoodscollective.com.au/wp-content/uploads/2021/11/EVENTICONS_B-04.png
END:VEVENT
BEGIN:VEVENT
DTSTART;TZID=UTC:20231015T090000
DTEND;TZID=UTC:20231015T120000
DTSTAMP:20260425T040821
CREATED:20230621T044600Z
LAST-MODIFIED:20230621T044600Z
UID:7185-1697360400-1697371200@www.fawknerwholefoodscollective.com.au
SUMMARY:15th Oct - Order Pick-up
DESCRIPTION:Bring your bags and containers along to the Fawkner Bowls Club to pick up your order. \nOnline orders close Weds 11 October.
URL:https://www.fawknerwholefoodscollective.com.au/event/15th-oct-order-pick-up/
LOCATION:Fawkner Bowls Club\, 2 Creedon st\, Fawkner\, Victoria\, 3060\, Australia
CATEGORIES:Monthly Pantry Orders
ATTACH;FMTTYPE=image/png:https://www.fawknerwholefoodscollective.com.au/wp-content/uploads/2021/11/EVENTICONS_B-04.png
END:VEVENT
BEGIN:VEVENT
DTSTART;TZID=UTC:20230917T090000
DTEND;TZID=UTC:20230917T120000
DTSTAMP:20260425T040821
CREATED:20230403T064038Z
LAST-MODIFIED:20230403T064038Z
UID:7175-1694941200-1694952000@www.fawknerwholefoodscollective.com.au
SUMMARY:17th Sept - Order Pick-up
DESCRIPTION:Bring your bags and containers along to the Fawkner Bowls Club to pick up your order. \nOnline orders close Weds 13 September.
URL:https://www.fawknerwholefoodscollective.com.au/event/17th-sept-order-pick-up/
LOCATION:Fawkner Bowls Club\, 2 Creedon st\, Fawkner\, Victoria\, 3060\, Australia
CATEGORIES:Monthly Pantry Orders
ATTACH;FMTTYPE=image/png:https://www.fawknerwholefoodscollective.com.au/wp-content/uploads/2021/11/EVENTICONS_B-04.png
END:VEVENT
BEGIN:VEVENT
DTSTART;TZID=UTC:20230820T090000
DTEND;TZID=UTC:20230820T120000
DTSTAMP:20260425T040821
CREATED:20230403T060022Z
LAST-MODIFIED:20230403T060022Z
UID:7173-1692522000-1692532800@www.fawknerwholefoodscollective.com.au
SUMMARY:20th Aug - Order Pick-up
DESCRIPTION:Bring your bags and containers along to the Fawkner Bowls Club to pick up your order. \nOnline orders close Weds 16 August.
URL:https://www.fawknerwholefoodscollective.com.au/event/20th-aug-order-pick-up/
LOCATION:Fawkner Bowls Club\, 2 Creedon st\, Fawkner\, Victoria\, 3060\, Australia
CATEGORIES:Monthly Pantry Orders
ATTACH;FMTTYPE=image/png:https://www.fawknerwholefoodscollective.com.au/wp-content/uploads/2021/11/EVENTICONS_B-04.png
END:VEVENT
BEGIN:VEVENT
DTSTART;TZID=UTC:20230716T090000
DTEND;TZID=UTC:20230716T120000
DTSTAMP:20260425T040821
CREATED:20230403T055931Z
LAST-MODIFIED:20230403T055931Z
UID:7171-1689498000-1689508800@www.fawknerwholefoodscollective.com.au
SUMMARY:16th July - Order Pick-up
DESCRIPTION:Bring your bags and containers along to the Fawkner Bowls Club to pick up your order. \nOnline orders close Weds 12 July.
URL:https://www.fawknerwholefoodscollective.com.au/event/16th-july-order-pick-up/
LOCATION:Fawkner Bowls Club\, 2 Creedon st\, Fawkner\, Victoria\, 3060\, Australia
CATEGORIES:Monthly Pantry Orders
ATTACH;FMTTYPE=image/png:https://www.fawknerwholefoodscollective.com.au/wp-content/uploads/2021/11/EVENTICONS_B-04.png
END:VEVENT
BEGIN:VEVENT
DTSTART;TZID=UTC:20230618T090000
DTEND;TZID=UTC:20230618T120000
DTSTAMP:20260425T040821
CREATED:20230105T061426Z
LAST-MODIFIED:20230107T024245Z
UID:7140-1687078800-1687089600@www.fawknerwholefoodscollective.com.au
SUMMARY:18th Jun - Order Pick-up
DESCRIPTION:Bring your bags and containers along to the Fawkner Bowls Club to pick up your order. \nOnline orders close Weds 14 June.
URL:https://www.fawknerwholefoodscollective.com.au/event/18th-jun-order-pick-up/
LOCATION:Fawkner Bowls Club\, 2 Creedon st\, Fawkner\, Victoria\, 3060\, Australia
CATEGORIES:Monthly Pantry Orders
ATTACH;FMTTYPE=image/png:https://www.fawknerwholefoodscollective.com.au/wp-content/uploads/2021/11/EVENTICONS_B-04.png
END:VEVENT
BEGIN:VEVENT
DTSTART;TZID=UTC:20230521T090000
DTEND;TZID=UTC:20230521T120000
DTSTAMP:20260425T040821
CREATED:20230105T061337Z
LAST-MODIFIED:20230107T024222Z
UID:7138-1684659600-1684670400@www.fawknerwholefoodscollective.com.au
SUMMARY:21st May - Order Pick-up
DESCRIPTION:Bring your bags and containers along to the Fawkner Bowls Club to pick up your order. \nOnline orders close Wed 17 May.
URL:https://www.fawknerwholefoodscollective.com.au/event/21st-may-order-pick-up/
LOCATION:Fawkner Bowls Club\, 2 Creedon st\, Fawkner\, Victoria\, 3060\, Australia
CATEGORIES:Monthly Pantry Orders
ATTACH;FMTTYPE=image/png:https://www.fawknerwholefoodscollective.com.au/wp-content/uploads/2021/11/EVENTICONS_B-04.png
END:VEVENT
BEGIN:VEVENT
DTSTART;TZID=UTC:20230423T090000
DTEND;TZID=UTC:20230423T120000
DTSTAMP:20260425T040821
CREATED:20230105T061238Z
LAST-MODIFIED:20230107T024151Z
UID:7136-1682240400-1682251200@www.fawknerwholefoodscollective.com.au
SUMMARY:23rd April - Order Pick-up
DESCRIPTION:Bring your bags and containers along to the Fawkner Bowls Club to pick up your order. \nOnline orders close Weds 19 Apr.
URL:https://www.fawknerwholefoodscollective.com.au/event/23rd-april-order-pick-up/
LOCATION:Fawkner Bowls Club\, 2 Creedon st\, Fawkner\, Victoria\, 3060\, Australia
CATEGORIES:Monthly Pantry Orders
ATTACH;FMTTYPE=image/png:https://www.fawknerwholefoodscollective.com.au/wp-content/uploads/2021/11/EVENTICONS_B-04.png
END:VEVENT
BEGIN:VEVENT
DTSTART;TZID=UTC:20230319T090000
DTEND;TZID=UTC:20230319T120000
DTSTAMP:20260425T040821
CREATED:20230105T061142Z
LAST-MODIFIED:20230107T024119Z
UID:7134-1679216400-1679227200@www.fawknerwholefoodscollective.com.au
SUMMARY:19th March - Order Pick-up
DESCRIPTION:Bring your bags and containers along to the Fawkner Bowls Club to pick up your order. \nOnline orders close Weds 15 March.
URL:https://www.fawknerwholefoodscollective.com.au/event/19th-march-order-pick-up/
LOCATION:Fawkner Bowls Club\, 2 Creedon st\, Fawkner\, Victoria\, 3060\, Australia
CATEGORIES:Monthly Pantry Orders
ATTACH;FMTTYPE=image/png:https://www.fawknerwholefoodscollective.com.au/wp-content/uploads/2021/11/EVENTICONS_B-04.png
END:VEVENT
BEGIN:VEVENT
DTSTART;TZID=UTC:20230219T090000
DTEND;TZID=UTC:20230219T120000
DTSTAMP:20260425T040821
CREATED:20230105T061035Z
LAST-MODIFIED:20230107T024048Z
UID:7132-1676797200-1676808000@www.fawknerwholefoodscollective.com.au
SUMMARY:19th February - Order Pick-up
DESCRIPTION:Bring your bags and containers along to the Fawkner Bowls Club to pick up your order. \nOnline orders close Weds 15 Feb.
URL:https://www.fawknerwholefoodscollective.com.au/event/19th-february-order-pick-up/
LOCATION:Fawkner Bowls Club\, 2 Creedon st\, Fawkner\, Victoria\, 3060\, Australia
CATEGORIES:Monthly Pantry Orders
ATTACH;FMTTYPE=image/png:https://www.fawknerwholefoodscollective.com.au/wp-content/uploads/2021/11/EVENTICONS_B-04.png
END:VEVENT
BEGIN:VEVENT
DTSTART;TZID=UTC:20230122T090000
DTEND;TZID=UTC:20230122T120000
DTSTAMP:20260425T040821
CREATED:20230105T060206Z
LAST-MODIFIED:20230107T024009Z
UID:6943-1674378000-1674388800@www.fawknerwholefoodscollective.com.au
SUMMARY:22nd January - Order Pick-up
DESCRIPTION:Bring your bags and containers along to the Fawkner Bowls Club to pick up your order. \nOnline orders close Weds Jan 18.
URL:https://www.fawknerwholefoodscollective.com.au/event/22nd-january-order-pick-up/
LOCATION:Fawkner Bowls Club\, 2 Creedon st\, Fawkner\, Victoria\, 3060\, Australia
CATEGORIES:Monthly Pantry Orders
ATTACH;FMTTYPE=image/png:https://www.fawknerwholefoodscollective.com.au/wp-content/uploads/2021/11/EVENTICONS_B-04.png
END:VEVENT
BEGIN:VEVENT
DTSTART;TZID=UTC:20221218T100000
DTEND;TZID=UTC:20221218T130000
DTSTAMP:20260425T040821
CREATED:20220708T024352Z
LAST-MODIFIED:20220708T024352Z
UID:6922-1671357600-1671368400@www.fawknerwholefoodscollective.com.au
SUMMARY:18th December - Order Pick-up
DESCRIPTION:Come along to the Fawkner Bowls Club to pick up your monthly pantry item (and eggs and bakery items) order.
URL:https://www.fawknerwholefoodscollective.com.au/event/18th-december-order-pick-up/
LOCATION:Fawkner Bowls Club\, 2 Creedon st\, Fawkner\, Victoria\, 3060\, Australia
CATEGORIES:Monthly Pantry Orders
ATTACH;FMTTYPE=image/png:https://www.fawknerwholefoodscollective.com.au/wp-content/uploads/2021/11/EVENTICONS_B-04.png
END:VEVENT
BEGIN:VEVENT
DTSTART;TZID=UTC:20221214T000000
DTEND;TZID=UTC:20221214T100000
DTSTAMP:20260425T040821
CREATED:20220708T024303Z
LAST-MODIFIED:20220708T024303Z
UID:6925-1670976000-1671012000@www.fawknerwholefoodscollective.com.au
SUMMARY:14th December - Orders Close
DESCRIPTION:Monthly pantry (and eggs and bread) orders close at 10 am today! Make sure you order via the shopfront here.
URL:https://www.fawknerwholefoodscollective.com.au/event/14th-december-orders-close/
LOCATION:Open Food Network (online)
CATEGORIES:Monthly Pantry Orders
ATTACH;FMTTYPE=image/png:https://www.fawknerwholefoodscollective.com.au/wp-content/uploads/2021/11/EVENTICONS_B-05.png
END:VEVENT
BEGIN:VEVENT
DTSTART;VALUE=DATE:20221121
DTEND;VALUE=DATE:20221214
DTSTAMP:20260425T040821
CREATED:20220708T024214Z
LAST-MODIFIED:20220708T024214Z
UID:6923-1668988800-1670975999@www.fawknerwholefoodscollective.com.au
SUMMARY:21st November - Orders Open
DESCRIPTION:Monthly pantry (and eggs and bread) orders are open! Make sure you order via the shopfront here.
URL:https://www.fawknerwholefoodscollective.com.au/event/21st-november-orders-open/
LOCATION:Open Food Network (online)
CATEGORIES:Monthly Pantry Orders
ATTACH;FMTTYPE=image/jpeg:https://www.fawknerwholefoodscollective.com.au/wp-content/uploads/2022/07/EVENTICONS_B-03.jpg
END:VEVENT
BEGIN:VEVENT
DTSTART;TZID=UTC:20221120T100000
DTEND;TZID=UTC:20221120T130000
DTSTAMP:20260425T040821
CREATED:20220708T024024Z
LAST-MODIFIED:20220708T024024Z
UID:6920-1668938400-1668949200@www.fawknerwholefoodscollective.com.au
SUMMARY:20th November - Order Pick-up
DESCRIPTION:Come along to the Fawkner Bowls Club to pick up your monthly pantry item (and eggs and bakery items) order.
URL:https://www.fawknerwholefoodscollective.com.au/event/20th-november-order-pick-up/
LOCATION:Fawkner Bowls Club\, 2 Creedon st\, Fawkner\, Victoria\, 3060\, Australia
CATEGORIES:Monthly Pantry Orders
ATTACH;FMTTYPE=image/png:https://www.fawknerwholefoodscollective.com.au/wp-content/uploads/2021/11/EVENTICONS_B-04.png
END:VEVENT
BEGIN:VEVENT
DTSTART;TZID=UTC:20221116T000000
DTEND;TZID=UTC:20221116T100000
DTSTAMP:20260425T040821
CREATED:20220708T023920Z
LAST-MODIFIED:20220708T023920Z
UID:6918-1668556800-1668592800@www.fawknerwholefoodscollective.com.au
SUMMARY:16th November - Orders Close
DESCRIPTION:Monthly pantry (and eggs and bread) orders close at 10 am today! Make sure you order via the shopfront here.
URL:https://www.fawknerwholefoodscollective.com.au/event/16th-november-orders-close/
LOCATION:Open Food Network (online)
CATEGORIES:Monthly Pantry Orders
ATTACH;FMTTYPE=image/png:https://www.fawknerwholefoodscollective.com.au/wp-content/uploads/2021/11/EVENTICONS_B-05.png
END:VEVENT
BEGIN:VEVENT
DTSTART;VALUE=DATE:20221017
DTEND;VALUE=DATE:20221116
DTSTAMP:20260425T040821
CREATED:20220708T023812Z
LAST-MODIFIED:20220708T023812Z
UID:6916-1665964800-1668556799@www.fawknerwholefoodscollective.com.au
SUMMARY:17th October - Orders Open
DESCRIPTION:Monthly pantry (and eggs and bread) orders are open! Make sure you order via the shopfront here.
URL:https://www.fawknerwholefoodscollective.com.au/event/17th-october-orders-open/
LOCATION:Open Food Network (online)
CATEGORIES:Monthly Pantry Orders
ATTACH;FMTTYPE=image/jpeg:https://www.fawknerwholefoodscollective.com.au/wp-content/uploads/2022/07/EVENTICONS_B-03.jpg
END:VEVENT
BEGIN:VEVENT
DTSTART;TZID=UTC:20221016T100000
DTEND;TZID=UTC:20221016T130000
DTSTAMP:20260425T040821
CREATED:20220708T023523Z
LAST-MODIFIED:20220708T023523Z
UID:6906-1665914400-1665925200@www.fawknerwholefoodscollective.com.au
SUMMARY:16th October - Order Pick-up
DESCRIPTION:Come along to the Fawkner Bowls Club to pick up your monthly pantry item (and eggs and bakery items) order.
URL:https://www.fawknerwholefoodscollective.com.au/event/16th-october-order-pick-up/
LOCATION:Fawkner Bowls Club\, 2 Creedon st\, Fawkner\, Victoria\, 3060\, Australia
CATEGORIES:Monthly Pantry Orders
ATTACH;FMTTYPE=image/png:https://www.fawknerwholefoodscollective.com.au/wp-content/uploads/2021/11/EVENTICONS_B-04.png
END:VEVENT
BEGIN:VEVENT
DTSTART;TZID=UTC:20221012T000000
DTEND;TZID=UTC:20221012T100000
DTSTAMP:20260425T040821
CREATED:20220708T022603Z
LAST-MODIFIED:20220708T023658Z
UID:6898-1665532800-1665568800@www.fawknerwholefoodscollective.com.au
SUMMARY:12th October - Orders Close
DESCRIPTION:Monthly pantry (and eggs and bread) orders close at 10 am today! Make sure you order via the shopfront here.
URL:https://www.fawknerwholefoodscollective.com.au/event/12th-october-pantry-orders-close-2/
LOCATION:Open Food Network (online)
CATEGORIES:Monthly Pantry Orders
ATTACH;FMTTYPE=image/png:https://www.fawknerwholefoodscollective.com.au/wp-content/uploads/2021/11/EVENTICONS_B-05.png
END:VEVENT
BEGIN:VEVENT
DTSTART;VALUE=DATE:20220919
DTEND;VALUE=DATE:20221013
DTSTAMP:20260425T040821
CREATED:20220708T022313Z
LAST-MODIFIED:20220708T022313Z
UID:6894-1663545600-1665619199@www.fawknerwholefoodscollective.com.au
SUMMARY:19th September - Orders Open
DESCRIPTION:Monthly pantry (and eggs and bread) orders are open! Make sure you order via the shopfront here.
URL:https://www.fawknerwholefoodscollective.com.au/event/19th-september-orders-open/
LOCATION:Open Food Network (online)
CATEGORIES:Monthly Pantry Orders
ATTACH;FMTTYPE=image/jpeg:https://www.fawknerwholefoodscollective.com.au/wp-content/uploads/2022/07/EVENTICONS_B-03.jpg
END:VEVENT
BEGIN:VEVENT
DTSTART;TZID=UTC:20220918T100000
DTEND;TZID=UTC:20220918T130000
DTSTAMP:20260425T040821
CREATED:20220708T022153Z
LAST-MODIFIED:20220708T022153Z
UID:6892-1663495200-1663506000@www.fawknerwholefoodscollective.com.au
SUMMARY:18th September - Pantry Order Pick-up
DESCRIPTION:Come along to the Fawkner Bowls Club to pick up your monthly pantry item (and eggs and bakery items) order.
URL:https://www.fawknerwholefoodscollective.com.au/event/18th-september-pantry-order-pick-up/
LOCATION:Fawkner Bowls Club\, 2 Creedon st\, Fawkner\, Victoria\, 3060\, Australia
CATEGORIES:Monthly Pantry Orders
ATTACH;FMTTYPE=image/png:https://www.fawknerwholefoodscollective.com.au/wp-content/uploads/2021/11/EVENTICONS_B-04.png
END:VEVENT
BEGIN:VEVENT
DTSTART;TZID=UTC:20220914T000000
DTEND;TZID=UTC:20220914T100000
DTSTAMP:20260425T040821
CREATED:20220708T022404Z
LAST-MODIFIED:20220708T022733Z
UID:6896-1663113600-1663149600@www.fawknerwholefoodscollective.com.au
SUMMARY:14th September - Orders Close
DESCRIPTION:Monthly pantry (and eggs and bread) orders close at 10 am today! Make sure you order via the shopfront here.
URL:https://www.fawknerwholefoodscollective.com.au/event/12th-october-pantry-orders-close/
LOCATION:Open Food Network (online)
CATEGORIES:Monthly Pantry Orders
ATTACH;FMTTYPE=image/png:https://www.fawknerwholefoodscollective.com.au/wp-content/uploads/2021/11/EVENTICONS_B-05.png
END:VEVENT
BEGIN:VEVENT
DTSTART;TZID=UTC:20220914T000000
DTEND;TZID=UTC:20220914T100000
DTSTAMP:20260425T040821
CREATED:20220708T022015Z
LAST-MODIFIED:20220708T023643Z
UID:6890-1663113600-1663149600@www.fawknerwholefoodscollective.com.au
SUMMARY:14th September - Orders Close
DESCRIPTION:Monthly pantry (and eggs and bread) orders close at 10 am today! Make sure you order via the shopfront here.
URL:https://www.fawknerwholefoodscollective.com.au/event/14th-september-pantry-orders-close-2/
LOCATION:Open Food Network (online)
CATEGORIES:Monthly Pantry Orders
ATTACH;FMTTYPE=image/png:https://www.fawknerwholefoodscollective.com.au/wp-content/uploads/2021/11/EVENTICONS_B-05.png
END:VEVENT
BEGIN:VEVENT
DTSTART;VALUE=DATE:20220822
DTEND;VALUE=DATE:20220914
DTSTAMP:20260425T040821
CREATED:20220708T021706Z
LAST-MODIFIED:20220708T022948Z
UID:6884-1661126400-1663113599@www.fawknerwholefoodscollective.com.au
SUMMARY:22nd August - Orders Open
DESCRIPTION:Monthly pantry (and eggs and bread) orders are open! Make sure you order via the shopfront here.
URL:https://www.fawknerwholefoodscollective.com.au/event/1st-august-orders-open-2/
LOCATION:Open Food Network (online)
CATEGORIES:Monthly Pantry Orders
ATTACH;FMTTYPE=image/jpeg:https://www.fawknerwholefoodscollective.com.au/wp-content/uploads/2022/07/EVENTICONS_B-03.jpg
END:VEVENT
BEGIN:VEVENT
DTSTART;TZID=UTC:20220821T100000
DTEND;TZID=UTC:20220821T130000
DTSTAMP:20260425T040821
CREATED:20220708T021546Z
LAST-MODIFIED:20220708T023635Z
UID:6882-1661076000-1661086800@www.fawknerwholefoodscollective.com.au
SUMMARY:21st August - Order Pick-up
DESCRIPTION:Come along to the Fawkner Bowls Club to pick up your monthly pantry item (and eggs and bakery items) order.
URL:https://www.fawknerwholefoodscollective.com.au/event/21st-august-pantry-order-pick-up/
LOCATION:Fawkner Bowls Club\, 2 Creedon st\, Fawkner\, Victoria\, 3060\, Australia
CATEGORIES:Monthly Pantry Orders
ATTACH;FMTTYPE=image/png:https://www.fawknerwholefoodscollective.com.au/wp-content/uploads/2021/11/EVENTICONS_B-04.png
END:VEVENT
BEGIN:VEVENT
DTSTART;TZID=UTC:20220817T000000
DTEND;TZID=UTC:20220817T100000
DTSTAMP:20260425T040821
CREATED:20220708T021447Z
LAST-MODIFIED:20220708T023650Z
UID:6880-1660694400-1660730400@www.fawknerwholefoodscollective.com.au
SUMMARY:17th August - Orders Close
DESCRIPTION:Monthly pantry (and eggs and bread) orders close at 10 am today! Make sure you order via the shopfront here.
URL:https://www.fawknerwholefoodscollective.com.au/event/17th-august-pantry-orders-close/
LOCATION:Open Food Network (online)
CATEGORIES:Monthly Pantry Orders
ATTACH;FMTTYPE=image/png:https://www.fawknerwholefoodscollective.com.au/wp-content/uploads/2021/11/EVENTICONS_B-05.png
END:VEVENT
BEGIN:VEVENT
DTSTART;VALUE=DATE:20220801
DTEND;VALUE=DATE:20220818
DTSTAMP:20260425T040821
CREATED:20220708T021325Z
LAST-MODIFIED:20220708T021325Z
UID:6878-1659312000-1660780799@www.fawknerwholefoodscollective.com.au
SUMMARY:1st August - Orders Open
DESCRIPTION:Monthly pantry (and eggs and bread) orders are open! Make sure you order via the shopfront here.
URL:https://www.fawknerwholefoodscollective.com.au/event/1st-august-orders-open/
LOCATION:Open Food Network (online)
CATEGORIES:Monthly Pantry Orders
ATTACH;FMTTYPE=image/jpeg:https://www.fawknerwholefoodscollective.com.au/wp-content/uploads/2022/07/EVENTICONS_B-03.jpg
END:VEVENT
BEGIN:VEVENT
DTSTART;TZID=UTC:20220717T100000
DTEND;TZID=UTC:20220717T130000
DTSTAMP:20260425T040821
CREATED:20220708T021140Z
LAST-MODIFIED:20220708T023622Z
UID:6876-1658052000-1658062800@www.fawknerwholefoodscollective.com.au
SUMMARY:17th July - Order Pick-up
DESCRIPTION:Come along to the Fawkner Bowls Club to pick up your monthly pantry item (and eggs and bakery items) order.
URL:https://www.fawknerwholefoodscollective.com.au/event/17th-july-pantry-order-pick-up/
LOCATION:Fawkner Bowls Club\, 2 Creedon st\, Fawkner\, Victoria\, 3060\, Australia
CATEGORIES:Monthly Pantry Orders
ATTACH;FMTTYPE=image/png:https://www.fawknerwholefoodscollective.com.au/wp-content/uploads/2021/11/EVENTICONS_B-04.png
END:VEVENT
BEGIN:VEVENT
DTSTART;TZID=UTC:20220713T000000
DTEND;TZID=UTC:20220713T100000
DTSTAMP:20260425T040821
CREATED:20220708T021006Z
LAST-MODIFIED:20220708T023615Z
UID:6873-1657670400-1657706400@www.fawknerwholefoodscollective.com.au
SUMMARY:13th July - Orders Close
DESCRIPTION:Monthly pantry (and eggs and bread) orders close at 10 am today! Make sure you order via the shopfront here.
URL:https://www.fawknerwholefoodscollective.com.au/event/17th-july-pantry-orders-close/
LOCATION:Open Food Network (online)
CATEGORIES:Monthly Pantry Orders
ATTACH;FMTTYPE=image/png:https://www.fawknerwholefoodscollective.com.au/wp-content/uploads/2021/11/EVENTICONS_B-05.png
END:VEVENT
END:VCALENDAR